BEGIN:VCALENDAR
VERSION:2.0
PRODID:-//AudioTheme 2.0.2
BEGIN:VEVENT
UID:urn:uuid:505f194c-750d-42cf-9bed-d0c984d1c428
URL:https://gaelbeauchamp.com/spectacles/auberge-le-baluchon-saint-paulin-groupe-prive-6/
DTSTART;TZID=GMT:20200313T230000
SUMMARY:Auberge le Baluchon, Saint-Paulin (Groupe privé)
DESCRIPTION:*COMPLET*
LOCATION:Le Baluchon Éco-villégiature\, 3550\, chemin des Trembles\, Saint-Paulin\, QC\, Canada\, J0K 3G0
END:VEVENT
END:VCALENDAR
